BEGIN:VCALENDAR
VERSION:2.0
CALSCALE:GREGORIAN
METHOD:PUBLISH
PRODID:Huntingdonshire Refuse Calendar Generator
X-WR-CALNAME:Refuse Collection Calendar
X-WR-TIMEZONE:Europe/London
BEGIN:VEVENT
CREATED:20260422T172159Z
UID:23829faf-1ebf-470d-bbc3-6e1c31e44101
DTEND:20260428T183000Z
DTSTAMP:20260422T172159Z
DTSTART:20260428T060000Z
LOCATION:8 RINGWOOD CLOSE\, BURY\, PE262NW
SUMMARY:Normal Waste
DESCRIPTION:Please put out your normal waste\, but make sure not to do it before 6pm the day before the collection
END:VEVENT
BEGIN:VEVENT
CREATED:20260422T172159Z
UID:942b21ef-c85e-480c-aaad-839f142e69f7
DTEND:20260428T183000Z
DTSTAMP:20260422T172159Z
DTSTART:20260428T060000Z
LOCATION:8 RINGWOOD CLOSE\, BURY\, PE262NW
SUMMARY:Food Waste
DESCRIPTION:Please put out your food waste\, but make sure not to do it before 6pm the day before the collection
END:VEVENT
BEGIN:VEVENT
CREATED:20260422T172159Z
UID:37516dea-49e2-45fa-af36-21c080cc8210
DTEND:20260505T183000Z
DTSTAMP:20260422T172159Z
DTSTART:20260505T060000Z
LOCATION:8 RINGWOOD CLOSE\, BURY\, PE262NW
SUMMARY:Garden Waste
DESCRIPTION:Please put out your garden waste\, but make sure not to do it before 6pm the day before the collection
END:VEVENT
BEGIN:VEVENT
CREATED:20260422T172159Z
UID:c3b29071-7f18-4bd3-829a-b8f811aba434
DTEND:20260505T183000Z
DTSTAMP:20260422T172159Z
DTSTART:20260505T060000Z
LOCATION:8 RINGWOOD CLOSE\, BURY\, PE262NW
SUMMARY: Recycling
DESCRIPTION:Please put out your recycling\, but make sure not to do it before 6pm the day before the collection
END:VEVENT
BEGIN:VEVENT
CREATED:20260422T172159Z
UID:8261f08a-28ad-4402-8d8b-c1af3023ff3f
DTEND:20260505T183000Z
DTSTAMP:20260422T172159Z
DTSTART:20260505T060000Z
LOCATION:8 RINGWOOD CLOSE\, BURY\, PE262NW
SUMMARY:Food Waste
DESCRIPTION:Please put out your food waste\, but make sure not to do it before 6pm the day before the collection
END:VEVENT
BEGIN:VEVENT
CREATED:20260422T172159Z
UID:916fb1d1-ca00-4758-ad27-1f5c31254989
DTEND:20260512T183000Z
DTSTAMP:20260422T172159Z
DTSTART:20260512T060000Z
LOCATION:8 RINGWOOD CLOSE\, BURY\, PE262NW
SUMMARY:Normal Waste
DESCRIPTION:Please put out your normal waste\, but make sure not to do it before 6pm the day before the collection
END:VEVENT
BEGIN:VEVENT
CREATED:20260422T172159Z
UID:1c8e71c6-8d8c-49b5-8f58-da15f380e171
DTEND:20260512T183000Z
DTSTAMP:20260422T172159Z
DTSTART:20260512T060000Z
LOCATION:8 RINGWOOD CLOSE\, BURY\, PE262NW
SUMMARY:Food Waste
DESCRIPTION:Please put out your food waste\, but make sure not to do it before 6pm the day before the collection
END:VEVENT
BEGIN:VEVENT
CREATED:20260422T172159Z
UID:6f41ab94-7314-42c4-acfd-13c4f10bccd0
DTEND:20260519T183000Z
DTSTAMP:20260422T172159Z
DTSTART:20260519T060000Z
LOCATION:8 RINGWOOD CLOSE\, BURY\, PE262NW
SUMMARY:Garden Waste
DESCRIPTION:Please put out your garden waste\, but make sure not to do it before 6pm the day before the collection
END:VEVENT
BEGIN:VEVENT
CREATED:20260422T172159Z
UID:fc4c763b-2764-4c48-9fdc-cb9a85e53d2c
DTEND:20260519T183000Z
DTSTAMP:20260422T172159Z
DTSTART:20260519T060000Z
LOCATION:8 RINGWOOD CLOSE\, BURY\, PE262NW
SUMMARY: Recycling
DESCRIPTION:Please put out your recycling\, but make sure not to do it before 6pm the day before the collection
END:VEVENT
BEGIN:VEVENT
CREATED:20260422T172159Z
UID:395c38e5-b0fd-4c27-a873-8f09c0ae9f99
DTEND:20260519T183000Z
DTSTAMP:20260422T172159Z
DTSTART:20260519T060000Z
LOCATION:8 RINGWOOD CLOSE\, BURY\, PE262NW
SUMMARY:Food Waste
DESCRIPTION:Please put out your food waste\, but make sure not to do it before 6pm the day before the collection
END:VEVENT
BEGIN:VEVENT
CREATED:20260422T172159Z
UID:c4400ab9-d0c7-465b-b4a7-cc1bc363407e
DTEND:20260526T183000Z
DTSTAMP:20260422T172159Z
DTSTART:20260526T060000Z
LOCATION:8 RINGWOOD CLOSE\, BURY\, PE262NW
SUMMARY:Normal Waste
DESCRIPTION:Please put out your normal waste\, but make sure not to do it before 6pm the day before the collection
END:VEVENT
BEGIN:VEVENT
CREATED:20260422T172159Z
UID:40734cd0-01eb-460b-979f-7e38925e0a57
DTEND:20260526T183000Z
DTSTAMP:20260422T172159Z
DTSTART:20260526T060000Z
LOCATION:8 RINGWOOD CLOSE\, BURY\, PE262NW
SUMMARY:Food Waste
DESCRIPTION:Please put out your food waste\, but make sure not to do it before 6pm the day before the collection
END:VEVENT
BEGIN:VEVENT
CREATED:20260422T172159Z
UID:bce49e8e-2537-4029-8f28-c936b018bca8
DTEND:20260602T183000Z
DTSTAMP:20260422T172159Z
DTSTART:20260602T060000Z
LOCATION:8 RINGWOOD CLOSE\, BURY\, PE262NW
SUMMARY:Garden Waste
DESCRIPTION:Please put out your garden waste\, but make sure not to do it before 6pm the day before the collection
END:VEVENT
BEGIN:VEVENT
CREATED:20260422T172159Z
UID:bef317d7-1f8f-4abb-8565-bd1b2009dfd3
DTEND:20260602T183000Z
DTSTAMP:20260422T172159Z
DTSTART:20260602T060000Z
LOCATION:8 RINGWOOD CLOSE\, BURY\, PE262NW
SUMMARY: Recycling
DESCRIPTION:Please put out your recycling\, but make sure not to do it before 6pm the day before the collection
END:VEVENT
BEGIN:VEVENT
CREATED:20260422T172159Z
UID:ec463a36-cb7f-4e7e-a3ed-b98d10a5a7a5
DTEND:20260602T183000Z
DTSTAMP:20260422T172159Z
DTSTART:20260602T060000Z
LOCATION:8 RINGWOOD CLOSE\, BURY\, PE262NW
SUMMARY:Food Waste
DESCRIPTION:Please put out your food waste\, but make sure not to do it before 6pm the day before the collection
END:VEVENT
BEGIN:VEVENT
CREATED:20260422T172159Z
UID:5c4ff4c8-34b7-4e1d-9cea-97a38d404f48
DTEND:20260609T183000Z
DTSTAMP:20260422T172159Z
DTSTART:20260609T060000Z
LOCATION:8 RINGWOOD CLOSE\, BURY\, PE262NW
SUMMARY:Normal Waste
DESCRIPTION:Please put out your normal waste\, but make sure not to do it before 6pm the day before the collection
END:VEVENT
BEGIN:VEVENT
CREATED:20260422T172159Z
UID:8f319362-401e-4c6f-9395-53ceb0ac0a68
DTEND:20260609T183000Z
DTSTAMP:20260422T172159Z
DTSTART:20260609T060000Z
LOCATION:8 RINGWOOD CLOSE\, BURY\, PE262NW
SUMMARY:Food Waste
DESCRIPTION:Please put out your food waste\, but make sure not to do it before 6pm the day before the collection
END:VEVENT
BEGIN:VEVENT
CREATED:20260422T172159Z
UID:4b43354b-cfa9-4511-8688-658876d5de8d
DTEND:20260616T183000Z
DTSTAMP:20260422T172159Z
DTSTART:20260616T060000Z
LOCATION:8 RINGWOOD CLOSE\, BURY\, PE262NW
SUMMARY:Garden Waste
DESCRIPTION:Please put out your garden waste\, but make sure not to do it before 6pm the day before the collection
END:VEVENT
BEGIN:VEVENT
CREATED:20260422T172159Z
UID:60bed35e-f6a4-47ad-a40e-e788822f2b93
DTEND:20260616T183000Z
DTSTAMP:20260422T172159Z
DTSTART:20260616T060000Z
LOCATION:8 RINGWOOD CLOSE\, BURY\, PE262NW
SUMMARY: Recycling
DESCRIPTION:Please put out your recycling\, but make sure not to do it before 6pm the day before the collection
END:VEVENT
BEGIN:VEVENT
CREATED:20260422T172159Z
UID:0e9bfd43-d2a1-4c95-afea-963448c7c1c6
DTEND:20260616T183000Z
DTSTAMP:20260422T172159Z
DTSTART:20260616T060000Z
LOCATION:8 RINGWOOD CLOSE\, BURY\, PE262NW
SUMMARY:Food Waste
DESCRIPTION:Please put out your food waste\, but make sure not to do it before 6pm the day before the collection
END:VEVENT
BEGIN:VEVENT
CREATED:20260422T172159Z
UID:a5f1bb3e-12b8-46da-85fe-ee0c28f3f0db
DTEND:20260623T183000Z
DTSTAMP:20260422T172159Z
DTSTART:20260623T060000Z
LOCATION:8 RINGWOOD CLOSE\, BURY\, PE262NW
SUMMARY:Normal Waste
DESCRIPTION:Please put out your normal waste\, but make sure not to do it before 6pm the day before the collection
END:VEVENT
BEGIN:VEVENT
CREATED:20260422T172159Z
UID:64826f5a-2193-4b02-8b52-2a11285301d9
DTEND:20260623T183000Z
DTSTAMP:20260422T172159Z
DTSTART:20260623T060000Z
LOCATION:8 RINGWOOD CLOSE\, BURY\, PE262NW
SUMMARY:Food Waste
DESCRIPTION:Please put out your food waste\, but make sure not to do it before 6pm the day before the collection
END:VEVENT
BEGIN:VEVENT
CREATED:20260422T172159Z
UID:8b56618c-d50d-43ca-8ab0-86693801a68d
DTEND:20260630T183000Z
DTSTAMP:20260422T172159Z
DTSTART:20260630T060000Z
LOCATION:8 RINGWOOD CLOSE\, BURY\, PE262NW
SUMMARY:Garden Waste
DESCRIPTION:Please put out your garden waste\, but make sure not to do it before 6pm the day before the collection
END:VEVENT
BEGIN:VEVENT
CREATED:20260422T172159Z
UID:52e8b2cb-220e-48e6-8b51-9b1a599e1cff
DTEND:20260630T183000Z
DTSTAMP:20260422T172159Z
DTSTART:20260630T060000Z
LOCATION:8 RINGWOOD CLOSE\, BURY\, PE262NW
SUMMARY: Recycling
DESCRIPTION:Please put out your recycling\, but make sure not to do it before 6pm the day before the collection
END:VEVENT
BEGIN:VEVENT
CREATED:20260422T172159Z
UID:9c847841-5065-4cf7-b924-6349200c68f7
DTEND:20260630T183000Z
DTSTAMP:20260422T172159Z
DTSTART:20260630T060000Z
LOCATION:8 RINGWOOD CLOSE\, BURY\, PE262NW
SUMMARY:Food Waste
DESCRIPTION:Please put out your food waste\, but make sure not to do it before 6pm the day before the collection
END:VEVENT
BEGIN:VEVENT
CREATED:20260422T172159Z
UID:59c20b49-e825-4b09-8f4f-6bc51bdf237e
DTEND:20260707T183000Z
DTSTAMP:20260422T172159Z
DTSTART:20260707T060000Z
LOCATION:8 RINGWOOD CLOSE\, BURY\, PE262NW
SUMMARY:Normal Waste
DESCRIPTION:Please put out your normal waste\, but make sure not to do it before 6pm the day before the collection
END:VEVENT
BEGIN:VEVENT
CREATED:20260422T172159Z
UID:f5113cc3-d991-4545-8262-9e6b86c21274
DTEND:20260707T183000Z
DTSTAMP:20260422T172159Z
DTSTART:20260707T060000Z
LOCATION:8 RINGWOOD CLOSE\, BURY\, PE262NW
SUMMARY:Food Waste
DESCRIPTION:Please put out your food waste\, but make sure not to do it before 6pm the day before the collection
END:VEVENT
BEGIN:VEVENT
CREATED:20260422T172159Z
UID:809ffb70-b12e-4f2a-a3dd-19f699029b2b
DTEND:20260714T183000Z
DTSTAMP:20260422T172159Z
DTSTART:20260714T060000Z
LOCATION:8 RINGWOOD CLOSE\, BURY\, PE262NW
SUMMARY:Garden Waste
DESCRIPTION:Please put out your garden waste\, but make sure not to do it before 6pm the day before the collection
END:VEVENT
BEGIN:VEVENT
CREATED:20260422T172159Z
UID:8c49aabf-a2ae-4561-b190-d73a2098c3b9
DTEND:20260714T183000Z
DTSTAMP:20260422T172159Z
DTSTART:20260714T060000Z
LOCATION:8 RINGWOOD CLOSE\, BURY\, PE262NW
SUMMARY: Recycling
DESCRIPTION:Please put out your recycling\, but make sure not to do it before 6pm the day before the collection
END:VEVENT
BEGIN:VEVENT
CREATED:20260422T172159Z
UID:ea94942e-6097-4906-8e0c-ce20f86526f8
DTEND:20260714T183000Z
DTSTAMP:20260422T172159Z
DTSTART:20260714T060000Z
LOCATION:8 RINGWOOD CLOSE\, BURY\, PE262NW
SUMMARY:Food Waste
DESCRIPTION:Please put out your food waste\, but make sure not to do it before 6pm the day before the collection
END:VEVENT
BEGIN:VEVENT
CREATED:20260422T172159Z
UID:8fdcca70-83c6-4ad6-bd0f-2892fc91de75
DTEND:20260721T183000Z
DTSTAMP:20260422T172159Z
DTSTART:20260721T060000Z
LOCATION:8 RINGWOOD CLOSE\, BURY\, PE262NW
SUMMARY:Normal Waste
DESCRIPTION:Please put out your normal waste\, but make sure not to do it before 6pm the day before the collection
END:VEVENT
BEGIN:VEVENT
CREATED:20260422T172159Z
UID:bfa590ce-3351-4c0f-964b-f4fa58671c7c
DTEND:20260721T183000Z
DTSTAMP:20260422T172159Z
DTSTART:20260721T060000Z
LOCATION:8 RINGWOOD CLOSE\, BURY\, PE262NW
SUMMARY:Food Waste
DESCRIPTION:Please put out your food waste\, but make sure not to do it before 6pm the day before the collection
END:VEVENT
BEGIN:VEVENT
CREATED:20260422T172159Z
UID:74ac0ed5-ac51-4ce5-beff-2dafe76edaa9
DTEND:20260728T183000Z
DTSTAMP:20260422T172159Z
DTSTART:20260728T060000Z
LOCATION:8 RINGWOOD CLOSE\, BURY\, PE262NW
SUMMARY:Garden Waste
DESCRIPTION:Please put out your garden waste\, but make sure not to do it before 6pm the day before the collection
END:VEVENT
BEGIN:VEVENT
CREATED:20260422T172159Z
UID:0a8549f3-7167-46c4-82ad-d2c3c61d9bf9
DTEND:20260728T183000Z
DTSTAMP:20260422T172159Z
DTSTART:20260728T060000Z
LOCATION:8 RINGWOOD CLOSE\, BURY\, PE262NW
SUMMARY: Recycling
DESCRIPTION:Please put out your recycling\, but make sure not to do it before 6pm the day before the collection
END:VEVENT
BEGIN:VEVENT
CREATED:20260422T172159Z
UID:8560c908-18be-4fc6-8373-fe1e03c5bc23
DTEND:20260728T183000Z
DTSTAMP:20260422T172159Z
DTSTART:20260728T060000Z
LOCATION:8 RINGWOOD CLOSE\, BURY\, PE262NW
SUMMARY:Food Waste
DESCRIPTION:Please put out your food waste\, but make sure not to do it before 6pm the day before the collection
END:VEVENT
END:VCALENDAR
